BEGIN:VCALENDAR
VERSION:2.0
PRODID:-//Pentucket Regional School District - ECPv6.15.20//NONSGML v1.0//EN
CALSCALE:GREGORIAN
METHOD:PUBLISH
X-ORIGINAL-URL:https://pentucketbudget.com
X-WR-CALDESC:Events for Pentucket Regional School District
REFRESH-INTERVAL;VALUE=DURATION:PT1H
X-Robots-Tag:noindex
X-PUBLISHED-TTL:PT1H
BEGIN:VTIMEZONE
TZID:America/New_York
BEGIN:DAYLIGHT
TZOFFSETFROM:-0500
TZOFFSETTO:-0400
TZNAME:EDT
DTSTART:20220313T070000
END:DAYLIGHT
BEGIN:STANDARD
TZOFFSETFROM:-0400
TZOFFSETTO:-0500
TZNAME:EST
DTSTART:20221106T060000
END:STANDARD
BEGIN:DAYLIGHT
TZOFFSETFROM:-0500
TZOFFSETTO:-0400
TZNAME:EDT
DTSTART:20230312T070000
END:DAYLIGHT
BEGIN:STANDARD
TZOFFSETFROM:-0400
TZOFFSETTO:-0500
TZNAME:EST
DTSTART:20231105T060000
END:STANDARD
BEGIN:DAYLIGHT
TZOFFSETFROM:-0500
TZOFFSETTO:-0400
TZNAME:EDT
DTSTART:20240310T070000
END:DAYLIGHT
BEGIN:STANDARD
TZOFFSETFROM:-0400
TZOFFSETTO:-0500
TZNAME:EST
DTSTART:20241103T060000
END:STANDARD
END:VTIMEZONE
BEGIN:VEVENT
DTSTART;TZID=America/New_York:20230424T190000
DTEND;TZID=America/New_York:20230424T203000
DTSTAMP:20260421T044043
CREATED:20230126T220919Z
LAST-MODIFIED:20230203T153125Z
UID:160-1682362800-1682368200@pentucketbudget.com
SUMMARY:West Newbury Town Meeting
DESCRIPTION:
URL:https://pentucketbudget.com/event/west-newbury-town-meeting/
LOCATION:West Newbury Town Annex\, West Newbury\, MA\, 01985
END:VEVENT
BEGIN:VEVENT
DTSTART;TZID=America/New_York:20230424T190000
DTEND;TZID=America/New_York:20230424T203000
DTSTAMP:20260421T044043
CREATED:20230126T220843Z
LAST-MODIFIED:20230329T155935Z
UID:159-1682362800-1682368200@pentucketbudget.com
SUMMARY:Groveland Town Meeting
DESCRIPTION:
URL:https://pentucketbudget.com/event/groveland-town-meeting/
LOCATION:Bagnall Elementary School\, 253 School Street\, Groveland\, MA\, 01834\, United States
END:VEVENT
BEGIN:VEVENT
DTSTART;TZID=America/New_York:20230328T180000
DTEND;TZID=America/New_York:20230328T193000
DTSTAMP:20260421T044043
CREATED:20230306T182230Z
LAST-MODIFIED:20230307T232956Z
UID:656-1680026400-1680031800@pentucketbudget.com
SUMMARY:School Committee Meeting
DESCRIPTION:Location – Middle-High School Dining Commons \nWhat is it/What will happen? School Committee Meeting. At this meeting\, one topic that the School Committee will discuss are possible areas that they would identify as areas to cut if the budget fails. \nCan I participate in this discussion? School Committee meetings are for the School Committee members\, however\, there is a public comment session at the start of the meeting during which members of the Pentucket community can speak on any agenda item for up to two minutes per speaker. If you are interested in speaking at this meeting\, you can sign up by contacting Ms. Naffah (mnaffah@prsd.org) prior to 9:30 AM on the day of the meeting.
URL:https://pentucketbudget.com/event/school-committee-meeting/
LOCATION:Pentucket Middle School/High School\, 24 Main Street\, Groveland\, MA\, 01834\, United States
END:VEVENT
BEGIN:VEVENT
DTSTART;TZID=America/New_York:20230320T190000
DTEND;TZID=America/New_York:20230320T203000
DTSTAMP:20260421T044043
CREATED:20230313T161837Z
LAST-MODIFIED:20230313T161837Z
UID:762-1679338800-1679344200@pentucketbudget.com
SUMMARY:West Newbury: Pentucket Budget Discussion with Dr. B
DESCRIPTION:Location – Page School (694 Main Street\, West Newbury\, MA) \nWhat is it/What will happen? This a budget information meeting for parents and community members during which Dr. B. will go over the budget\, what is impacted\, and how it will impact\nour curriculum\, class sizes\, and extracurricular activities including the arts and athletics. \nCan I participate in this discussion? Yes. During this presentation\, Dr. Bartholomew will answer questions that parents or the community may have regarding the budget.
URL:https://pentucketbudget.com/event/west-newbury-pentucket-budget-discussion-with-dr-b/
LOCATION:Page School\, 694 Main Street\, West Newbury\, MA\, 01985\, United States
END:VEVENT
BEGIN:VEVENT
DTSTART;TZID=America/New_York:20230315T180000
DTEND;TZID=America/New_York:20230315T200000
DTSTAMP:20260421T044043
CREATED:20230201T171705Z
LAST-MODIFIED:20230306T165300Z
UID:185-1678903200-1678910400@pentucketbudget.com
SUMMARY:Bagnall: Pentucket Budget Discussion with Dr. B
DESCRIPTION:Location – Bagnall Elementary School Cafeteria (253 School Street\, Groveland\, MA) \nWhat is it/What will happen? This a budget information meeting for parents and community members during which Dr. B. will go over the budget\, what is impacted\, and how it will impact\nour curriculum\, class sizes\, and extracurricular activities including the arts and athletics. \nCan I participate in this discussion? Yes. During this presentation\, Dr. Bartholomew will answer questions that parents or the community may have regarding the budget.
URL:https://pentucketbudget.com/event/bagnall-pentucket-budget-discussion-with-dr-b/
LOCATION:Bagnall Elementary School\, 253 School Street\, Groveland\, MA\, 01834\, United States
END:VEVENT
BEGIN:VEVENT
DTSTART;TZID=America/New_York:20230313T183000
DTEND;TZID=America/New_York:20230313T203000
DTSTAMP:20260421T044043
CREATED:20230206T183123Z
LAST-MODIFIED:20230306T165139Z
UID:272-1678732200-1678739400@pentucketbudget.com
SUMMARY:Merrimac: Pentucket Budget Discussion with Dr. B
DESCRIPTION:Location – Sweetsir Elementary School Cafeteria (104 Church Street\, Merrimac\, MA) \nWhat is it/What will happen? This a budget information meeting for parents and community members during which Dr. B. will go over the budget\, what is impacted\, and how it will impact\nour curriculum\, class sizes\, and extracurricular activities including the arts and athletics. \nCan I participate in this discussion? Yes. During this presentation\, Dr. Bartholomew will answer questions that parents or the community may have regarding the budget.
URL:https://pentucketbudget.com/event/merrimac-pentucket-budget-meeting/
LOCATION:Sweetsir School (Cafe)\, 104 Church Street\, Merrimac\, 01860\, United States
END:VEVENT
BEGIN:VEVENT
DTSTART;TZID=America/New_York:20230308T180000
DTEND;TZID=America/New_York:20230308T200000
DTSTAMP:20260421T044043
CREATED:20230303T213513Z
LAST-MODIFIED:20230306T165053Z
UID:629-1678298400-1678305600@pentucketbudget.com
SUMMARY:Joint meeting of Groveland\, West Newbury\, and Merrimac's BOS and Finance Committees
DESCRIPTION:Location – Middle-High School Dining Commons. This will also be live streamed on YouTube here: https://youtube.com/live/5Ohd0rFsUiQ \nWhat is it/What will happen? Joint Meeting of Groveland\, West Newbury\, and Merrimac Boards of Selectmen and Finance Committees – These representatives were invited to attend this\nmeeting to get an update on PRSD’s budget and they will be able to ask questions or voice concerns. \nCan I participate in this discussion? Anyone who is interested in making a comment during the public comment session of this meeting (this will be at the very start of the meeting) can sign up to do so by contacting Ms. Naffah (mnaffah@prsd.org) prior to 9:30 AM on Wednesday. There might also be a Q&A at the end of the meeting during which the public could participate.
URL:https://pentucketbudget.com/event/joint-meeting-of-groveland-west-newbury-and-merrimacs-bos-and-finance-committees/
LOCATION:Pentucket Middle School/High School\, 24 Main Street\, Groveland\, MA\, 01834\, United States
END:VEVENT
BEGIN:VEVENT
DTSTART;TZID=America/New_York:20230307T170000
DTEND;TZID=America/New_York:20230307T190000
DTSTAMP:20260421T044043
CREATED:20230126T220758Z
LAST-MODIFIED:20230308T000734Z
UID:158-1678208400-1678215600@pentucketbudget.com
SUMMARY:School Committee Meeting - Vote to Approve Budget
DESCRIPTION:Location – 2nd Floor of the Middle-High School\, Room 2028 next to the media center \nWhat is it/What will happen? School Committee Meeting – The School Committee will be voting on a budget number and what is included in that budget number will be discussed. \nCan I participate in this discussion? Anyone who is interested in making a comment during the public comment session of the meeting can sign up to do so by contacting Ms. Naffah (mnaffah@prsd.org) prior to 9:30 AM on Tuesday. Comments need to be 2 minutes or less and should be connected to an item on the agenda. \nSchool Committee Budget Presentation – 3/7/2023
URL:https://pentucketbudget.com/event/school-committee-deadline-to-approve-budget/
LOCATION:Pentucket Middle School/High School\, 24 Main Street\, Groveland\, MA\, 01834\, United States
END:VEVENT
BEGIN:VEVENT
DTSTART;VALUE=DATE:20230301
DTEND;VALUE=DATE:20230302
DTSTAMP:20260421T044043
CREATED:20230126T220657Z
LAST-MODIFIED:20230126T220657Z
UID:157-1677628800-1677715199@pentucketbudget.com
SUMMARY:Release of Governor's Budget\, Including Ch. 70 Aid to the District
DESCRIPTION:
URL:https://pentucketbudget.com/event/release-of-governors-budget-including-ch-70-aid-to-the-district/
LOCATION:MA
END:VEVENT
BEGIN:VEVENT
DTSTART;TZID=America/New_York:20230214T180000
DTEND;TZID=America/New_York:20230214T200000
DTSTAMP:20260421T044043
CREATED:20230126T220431Z
LAST-MODIFIED:20230126T220431Z
UID:155-1676397600-1676404800@pentucketbudget.com
SUMMARY:School Committee Public Hearing on Budget
DESCRIPTION:
URL:https://pentucketbudget.com/event/school-committee-public-hearing-on-budget/
LOCATION:Pentucket Middle School/High School\, 24 Main Street\, Groveland\, MA\, 01834\, United States
END:VEVENT
BEGIN:VEVENT
DTSTART;TZID=America/New_York:20230124T180000
DTEND;TZID=America/New_York:20230124T200000
DTSTAMP:20260421T044043
CREATED:20230119T211848Z
LAST-MODIFIED:20230119T211848Z
UID:87-1674583200-1674590400@pentucketbudget.com
SUMMARY:Joint Meeting with Town Managers\, Board of Selectmen and Finance Committee Members RE: FY24 Budget
DESCRIPTION:Joint Meeting of the Boards of Selectmen and Finance Committee that will be taking place next Tuesday\, January 24th\, at 6PM at the MSHS.  The hope is to have a press release out by the end of the week\, but we will want as many people there as possible.\n\n\nDr. B will be presenting the budget situation and the impact of an override passing and not passing.   While we don’t know budget #s right now\, we do know that an override is likely\, and we also know what the outcome of a failed override will look like for either PRSD\, or the Town that fails to pass it.
URL:https://pentucketbudget.com/event/joint-meeting-with-town-managers-board-of-selectmen-and-finance-committee-members-re-fy24-budget/
LOCATION:Pentucket Middle School/High School\, 24 Main Street\, Groveland\, MA\, 01834\, United States
END:VEVENT
END:VCALENDAR